BEGIN:VCALENDAR
VERSION:2.0
PRODID:-//St Ives Centro Residents&#039; Association - ECPv6.15.20//NONSGML v1.0//EN
CALSCALE:GREGORIAN
METHOD:PUBLISH
X-WR-CALNAME:St Ives Centro Residents&#039; Association
X-ORIGINAL-URL:https://stivescentro.com.au
X-WR-CALDESC:Events for St Ives Centro Residents&#039; Association
REFRESH-INTERVAL;VALUE=DURATION:PT1H
X-Robots-Tag:noindex
X-PUBLISHED-TTL:PT1H
BEGIN:VTIMEZONE
TZID:Asia/Shanghai
BEGIN:STANDARD
TZOFFSETFROM:+0800
TZOFFSETTO:+0800
TZNAME:CST
DTSTART:20250101T000000
END:STANDARD
END:VTIMEZONE
BEGIN:VEVENT
DTSTART;TZID=Asia/Shanghai:20260423T170000
DTEND;TZID=Asia/Shanghai:20260423T180000
DTSTAMP:20260421T164040
CREATED:20260312T025936Z
LAST-MODIFIED:20260312T025936Z
UID:2248-1776963600-1776967200@stivescentro.com.au
SUMMARY:ANZAC DAY COMMEMORATION SERVICE
DESCRIPTION:
URL:https://stivescentro.com.au/event/anzac-day-commemoration-service-2
END:VEVENT
BEGIN:VEVENT
DTSTART;TZID=Asia/Shanghai:20260430T190000
DTEND;TZID=Asia/Shanghai:20260430T213000
DTSTAMP:20260421T164040
CREATED:20260416T024331Z
LAST-MODIFIED:20260416T024331Z
UID:2297-1777575600-1777584600@stivescentro.com.au
SUMMARY:Movie in the Cinema
DESCRIPTION:
URL:https://stivescentro.com.au/event/movie-in-the-cinema-3
END:VEVENT
END:VCALENDAR